BEGIN:VCALENDAR
VERSION:2.0
PRODID:-//urwahl3000//alexander-asbrock.de//DE
CALSCALE:GREGORIAN
BEGIN:VEVENT
DTSTART:20210304T183000
DTEND:20210304T200000
LOCATION: 
DTSTAMP:20210304T183000
SUMMARY:Bürgerdialog Süd
URL;VALUE=URI:https://www.alexander-asbrock.de/termin/buergerdialog-sued/
DESCRIPTION:Kommen Sie mit uns ins Gespräch!

Am <strong>Donnerstag den 04.03.2021</strong> findet der <span style="color: #339966;"><strong>Bürgerdialog Süd</strong></span> über Zoom statt.

<a href="https://zoom.us/j/94449295063?pwd=QU82R0R1WGtsTG5RYnIxSnRDOEdlUT09"><strong>Klicken Sie hier, um direkt verbunden zu werden.</strong></a>

Die Zugangsdaten zum zoom-Meeting lauten:

Meeting-ID: 944 4929 5063
Kenncode: 395165

Interessierte aus den Städten, Gemeinden und dem Umland von <strong>Aalen</strong>, <strong>Hüttlingen</strong>, <strong>Oberkochen</strong> und <strong>Neresheim</strong> können sich zur Webkonferenz dazuschalten und mit dem Landtagskandidat <strong><span style="color: #339966;">Alexander Asbrock</span></strong>, seiner Ersatzkandidatin <strong><span style="color: #339966;">Melanie Kraus</span></strong>, dem Fraktionsgeschäftsführer im Kreisrat <strong><span style="color: #339966;">Bennet Müller </span></strong>und dem Fraktionsvorsitzenden im Gemeinderat Aalen <strong><span style="color: #339966;">Michael Fleischer</span></strong> ins Gespräch über aktuelle Themen kommen.

Wir freuen uns auf Sie!

 
UID:20210304T183000-20210304T183000-20210304T200000
END:VEVENT
END:VCALENDAR